BEGIN:VCALENDAR
VERSION:2.0
PRODID:-//Tukios.com/
BEGIN:VEVENT
UID:09ccd701-b2ad-4d97-bb99-dbb811ba3137@www.bestefh.com
DTSTAMP:20260420T205337Z
DTSTART:20260427T200000Z
DTEND:20260427T210000Z
SUMMARY:Celebration of Life
DESCRIPTION:
URL:https://www.bestefh.com/obituaries/christopher-miller
LOCATION:Beste Funeral Home 611 3rd St  Mosinee WI 54455
GEO:44.7897953;-89.7060379
END:VEVENT
END:VCALENDAR