BEGIN:VCALENDAR
VERSION:2.0
PRODID:-//Tukios.com/
BEGIN:VEVENT
UID:bb09a6dc-6d47-425e-880d-4ce509a4056a@www.bestefh.com
DTSTAMP:20260420T205159Z
DTSTART:20260427T180000Z
DTEND:20260427T200000Z
SUMMARY:Visitation
DESCRIPTION:
URL:https://www.bestefh.com/obituaries/christopher-miller
LOCATION:Beste Funeral Home 611 3rd St  Mosinee WI 54455
GEO:44.7897953;-89.7060379
END:VEVENT
END:VCALENDAR